BEGIN:VCALENDAR
VERSION:2.0
PRODID:-//wp-events-plugin.com//7.2.3.1//EN
BEGIN:VEVENT
UID:161@mk-herrenzimmern.de
DTSTART:20180428T160000Z
DTEND:20180428T225900Z
DTSTAMP:20190310T231931Z
URL:https://mk-herrenzimmern.de/events/bockbierfest-2/
SUMMARY:Bockbierfest
DESCRIPTION:Bockbierfest\n\n17:00 Uhr\nUnterhaltungsabend mit Gastkapellen 
 und bayrischen Wettspielen
CATEGORIES:Auftritt,Bockbierfest,Gastkapellen,Musikkapelle
LOCATION:Turn- und Festhalle Herrenzimmern\, Schulstraße 2\, Bösingen\, B
 aden-Württemberg\, 78662\, Deutschland
GEO:48.224515939300026;8.57946244127811
X-APPLE-STRUCTURED-LOCATION;VALUE=URI;X-ADDRESS=Schulstraße 2\, Bösingen\
 , Baden-Württemberg\, 78662\, Deutschland;X-APPLE-RADIUS=100;X-TITLE=Turn
 - und Festhalle Herrenzimmern:geo:48.224515939300026,8.57946244127811
END:VEVENT
END:VCALENDAR