BEGIN:VCALENDAR
VERSION:2.0
PRODID:-//wp-events-plugin.com//7.2.3.1//EN
BEGIN:VEVENT
UID:335@mk-herrenzimmern.de
DTSTART:20250227T130000Z
DTEND:20250227T153000Z
DTSTAMP:20250224T225056Z
URL:https://mk-herrenzimmern.de/events/kinderball-fasnet-herrenzimmern-202
 5/
SUMMARY:Kinderball - Fasnet Herrenzimmern
DESCRIPTION:Kinderball - Fasnet Herrenzimmern\n\nAuftritt der JuMu beim Kin
 derball der Narrenzunft Herrenzimmern
CATEGORIES:Auftritt,Fasnet,JuMu
LOCATION:Turn- und Festhalle Herrenzimmern\, Schulstraße 2\, Bösingen\, B
 aden-Württemberg\, 78662\, Deutschland
GEO:48.224515939300026;8.57946244127811
X-APPLE-STRUCTURED-LOCATION;VALUE=URI;X-ADDRESS=Schulstraße 2\, Bösingen\
 , Baden-Württemberg\, 78662\, Deutschland;X-APPLE-RADIUS=100;X-TITLE=Turn
 - und Festhalle Herrenzimmern:geo:48.224515939300026,8.57946244127811
END:VEVENT
END:VCALENDAR